BEGIN:VCALENDAR
VERSION:2.0
PRODID:concerti//https://www.concerti.de
CALSCALE:GREGORIAN
BEGIN:VTIMEZONE
TZID:Europe/Berlin
X-LIC-LOCATION:Europe/Berlin
BEGIN:DAYLIGHT
TZOFFSETFROM:+0100
TZOFFSETTO:+0200
TZNAME:CEST
DTSTART:19700329T020000
RRULE:FREQ=YEARLY;BYMONTH=3;BYDAY=-1SU
END:DAYLIGHT
BEGIN:STANDARD
TZOFFSETFROM:+0200
TZOFFSETTO:+0100
TZNAME:CET
DTSTART:19701025T030000
RRULE:FREQ=YEARLY;BYMONTH=10;BYDAY=-1SU
END:STANDARD
END:VTIMEZONE
BEGIN:VEVENT
UID:343706ea56b1e9f0d1f6cee88723605b
SUMMARY:Camilla Nylund (Sopran), Annely Peebo (Mezzosopran), Pantelis Polychronidis (Klavier) - Serenadenkonzerte Niederösterreich
URL:https://www.concerti.de/termine/camilla-nylund-sopran-annely-peebo-mezzosopran-pantelis-polychronidis-klavier-889470/
DTSTART;TZID=Europe/Berlin:20260913T180000
DTEND;TZID=Europe/Berlin:20260913T200000
DESCRIPTION:Interpreten: Camilla Nylund (Sopran)\, Annely Peebo (Mezzosopran)\, Pantelis Polychronidis (Klavier) \nProgramm: Werke von Mozart\, Mendelssohn\, Dvořák\, Mahler u. a. \nhttps://www.concerti.de/termine/camilla-nylund-sopran-annely-peebo-mezzosopran-pantelis-polychronidis-klavier-889470/
LOCATION:Schlosstheater Laxenburg\, Laxenburg
END:VEVENT
END:VCALENDAR