BEGIN:VCALENDAR
VERSION:2.0
PRODID:concerti//https://www.concerti.de
CALSCALE:GREGORIAN
BEGIN:VTIMEZONE
TZID:Europe/Berlin
X-LIC-LOCATION:Europe/Berlin
BEGIN:DAYLIGHT
TZOFFSETFROM:+0100
TZOFFSETTO:+0200
TZNAME:CEST
DTSTART:19700329T020000
RRULE:FREQ=YEARLY;BYMONTH=3;BYDAY=-1SU
END:DAYLIGHT
BEGIN:STANDARD
TZOFFSETFROM:+0200
TZOFFSETTO:+0100
TZNAME:CET
DTSTART:19701025T030000
RRULE:FREQ=YEARLY;BYMONTH=10;BYDAY=-1SU
END:STANDARD
END:VTIMEZONE
BEGIN:VEVENT
UID:19e8f4fbe7f5edbbf9e4294c3421a56b
SUMMARY:Carine Tinne (Sopran), Martin Gregorius (Orgel) - Trigonale – Festival der alten Musik
URL:https://www.concerti.de/termine/carine-tinne-sopran-martin-gregorius-orgel-889463/
DTSTART;TZID=Europe/Berlin:20260912T190000
DTEND;TZID=Europe/Berlin:20260912T210000
DESCRIPTION:Interpreten: Carine Tinne (Sopran)\, Martin Gregorius (Orgel) \nProgramm: Mit Werken von Clérambault\, Lalouette & Campra \nhttps://www.concerti.de/termine/carine-tinne-sopran-martin-gregorius-orgel-889463/
LOCATION:Dom zu Maria Saal\, Maria Saal
END:VEVENT
END:VCALENDAR