BEGIN:VCALENDAR
VERSION:2.0
PRODID:concerti//https://www.concerti.de
CALSCALE:GREGORIAN
BEGIN:VTIMEZONE
TZID:Europe/Berlin
X-LIC-LOCATION:Europe/Berlin
BEGIN:DAYLIGHT
TZOFFSETFROM:+0100
TZOFFSETTO:+0200
TZNAME:CEST
DTSTART:19700329T020000
RRULE:FREQ=YEARLY;BYMONTH=3;BYDAY=-1SU
END:DAYLIGHT
BEGIN:STANDARD
TZOFFSETFROM:+0200
TZOFFSETTO:+0100
TZNAME:CET
DTSTART:19701025T030000
RRULE:FREQ=YEARLY;BYMONTH=10;BYDAY=-1SU
END:STANDARD
END:VTIMEZONE
BEGIN:VEVENT
UID:1a13063f3237c6cf8c7e00cdcc588116
SUMMARY:Cavalieri: Rappresentatione di Anima et di Corpo - Trigonale – Festival der alten Musik
URL:https://www.concerti.de/termine/cavalieri-rappresentatione-di-anima-et-di-corpo-889432/
DTSTART;TZID=Europe/Berlin:20260705T200000
DTEND;TZID=Europe/Berlin:20260705T220000
DESCRIPTION:Interpreten: Emile Ribokaite (Sopran)\, Absolventinnen & Absolventen der Schola Cantorum Basiliensis\,  Indre Kučinskaite (Leitung)\, Irene González Roldán (Leitung)\, Emile Ribokaite (Regie) \nhttps://www.concerti.de/termine/cavalieri-rappresentatione-di-anima-et-di-corpo-889432/
LOCATION:Stiftskirche St. Georgen\, St. Georgen/Längsee
END:VEVENT
END:VCALENDAR