BEGIN:VCALENDAR
VERSION:2.0
PRODID:concerti//https://www.concerti.de
CALSCALE:GREGORIAN
BEGIN:VTIMEZONE
TZID:Europe/Berlin
X-LIC-LOCATION:Europe/Berlin
BEGIN:DAYLIGHT
TZOFFSETFROM:+0100
TZOFFSETTO:+0200
TZNAME:CEST
DTSTART:19700329T020000
RRULE:FREQ=YEARLY;BYMONTH=3;BYDAY=-1SU
END:DAYLIGHT
BEGIN:STANDARD
TZOFFSETFROM:+0200
TZOFFSETTO:+0100
TZNAME:CET
DTSTART:19701025T030000
RRULE:FREQ=YEARLY;BYMONTH=10;BYDAY=-1SU
END:STANDARD
END:VTIMEZONE
BEGIN:VEVENT
UID:4575fe4330b9542f200d7201886a31cd
SUMMARY:Concerti hinter Gittern
URL:https://www.concerti.de/termine/concerti-hinter-gittern-889341/
DTSTART;TZID=Europe/Berlin:20260926T200000
DTEND;TZID=Europe/Berlin:20260926T220000
DESCRIPTION:Interpreten: Katie Stephens (Violoncello)\, Niels Pfeffer (Laute)\, Main-Barockorchester Frankfurt\, Martin Jopp (Violine & Leitung) \nProgramm: Werke von Hasse\, Vivaldi\, Galuppi\, Tartini\, Gasparini & Ferrandini \nhttps://www.concerti.de/termine/concerti-hinter-gittern-889341/
LOCATION:Karmeliterkloster\, Frankfurt (Main)
END:VEVENT
END:VCALENDAR