BEGIN:VCALENDAR
VERSION:2.0
PRODID:concerti//https://www.concerti.de
CALSCALE:GREGORIAN
BEGIN:VTIMEZONE
TZID:Europe/Berlin
X-LIC-LOCATION:Europe/Berlin
BEGIN:DAYLIGHT
TZOFFSETFROM:+0100
TZOFFSETTO:+0200
TZNAME:CEST
DTSTART:19700329T020000
RRULE:FREQ=YEARLY;BYMONTH=3;BYDAY=-1SU
END:DAYLIGHT
BEGIN:STANDARD
TZOFFSETFROM:+0200
TZOFFSETTO:+0100
TZNAME:CET
DTSTART:19701025T030000
RRULE:FREQ=YEARLY;BYMONTH=10;BYDAY=-1SU
END:STANDARD
END:VTIMEZONE
BEGIN:VEVENT
UID:c8c8e06cf6355b487f36bad9b8292537
SUMMARY:Duo Mirage - Voraushören
URL:https://www.concerti.de/termine/duo-mirage-holzhausenschloesschen-889331/
DTSTART;TZID=Europe/Berlin:20260917T193000
DTEND;TZID=Europe/Berlin:20260917T213000
DESCRIPTION:Interpreten: Duo Mirage \nProgramm: Nas: DiGiT #2\, Borodin/Sokolov: Polovtsian Dances aus Prince Igor\, Satanovski: Hommage à Schubert\, Schubert: Fantasie in f-moll D 940\, Ammann: Regards sur les traditions\, Ravel: Rapsodie espagnole \nhttps://www.concerti.de/termine/duo-mirage-holzhausenschloesschen-889331/
LOCATION:Holzhausenschlösschen\, Justinianstraße 5\, 60322 Frankfurt (Main)
END:VEVENT
END:VCALENDAR