BEGIN:VCALENDAR
VERSION:2.0
PRODID:concerti//https://www.concerti.de
CALSCALE:GREGORIAN
BEGIN:VTIMEZONE
TZID:Europe/Berlin
X-LIC-LOCATION:Europe/Berlin
BEGIN:DAYLIGHT
TZOFFSETFROM:+0100
TZOFFSETTO:+0200
TZNAME:CEST
DTSTART:19700329T020000
RRULE:FREQ=YEARLY;BYMONTH=3;BYDAY=-1SU
END:DAYLIGHT
BEGIN:STANDARD
TZOFFSETFROM:+0200
TZOFFSETTO:+0100
TZNAME:CET
DTSTART:19701025T030000
RRULE:FREQ=YEARLY;BYMONTH=10;BYDAY=-1SU
END:STANDARD
END:VTIMEZONE
BEGIN:VEVENT
UID:c2a31735d77ddcb06b8057e31803dde8
SUMMARY:Olivier Latry (Orgel)
URL:https://www.concerti.de/termine/olivier-latry-orgel-alte-oper-frankfurt-889324/
DTSTART;TZID=Europe/Berlin:20260914T200000
DTEND;TZID=Europe/Berlin:20260914T220000
DESCRIPTION:Interpreten: Olivier Latry (Orgel) \nProgramm: J. S. Bach/Messerer: Chaconne aus Partita Nr. 2 d-Moll BWV 1004\, J. S. Bach/Duruflé: Jesus bleibet meine Freude BWV 147\, J. S. Bach/Dupré: Sinfonia aus „Wir danken dir\, Gott\, wir danken dir“ BWV 29\, J. S. Bach/Gigout: Mein gläubiges Herze BWV 68\, J. S. Bach/Widor: Wir setzen uns mit Tränen nieder aus „Matthäuspassion“ BWV 244\, J. S. Bach: Konzert a-Moll BWV 593\, Präludium und Fuge d-Moll BWV 539\, Kommst du nun\, Jesu\, vom Himmel herunter BWV 650 & Toccata und Fuge d-Moll BWV 565 \nhttps://www.concerti.de/termine/olivier-latry-orgel-alte-oper-frankfurt-889324/
LOCATION:Alte Oper Frankfurt\, Opernplatz 1\, 60313 Frankfurt (Main)
END:VEVENT
END:VCALENDAR