BEGIN:VCALENDAR
VERSION:2.0
PRODID:concerti//https://www.concerti.de
CALSCALE:GREGORIAN
BEGIN:VTIMEZONE
TZID:Europe/Berlin
X-LIC-LOCATION:Europe/Berlin
BEGIN:DAYLIGHT
TZOFFSETFROM:+0100
TZOFFSETTO:+0200
TZNAME:CEST
DTSTART:19700329T020000
RRULE:FREQ=YEARLY;BYMONTH=3;BYDAY=-1SU
END:DAYLIGHT
BEGIN:STANDARD
TZOFFSETFROM:+0200
TZOFFSETTO:+0100
TZNAME:CET
DTSTART:19701025T030000
RRULE:FREQ=YEARLY;BYMONTH=10;BYDAY=-1SU
END:STANDARD
END:VTIMEZONE
BEGIN:VEVENT
UID:a5d5af163a20e9375495cb349d7d9095
SUMMARY:Sophie Rennert (Mezzosopran), Ammiel Bushakevitz (Klavier)
URL:https://www.concerti.de/termine/sophie-rennert-mezzosopran-ammiel-bushakevitz-klavier-holzhausenschloesschen-889321/
DTSTART;TZID=Europe/Berlin:20260910T193000
DTEND;TZID=Europe/Berlin:20260910T213000
DESCRIPTION:Interpreten: Sophie Rennert (Mezzosopran)\, Ammiel Bushakevitz (Klavier) \nProgramm: Werke von Schumann\, Wolf\, Schubert & Mahler \nhttps://www.concerti.de/termine/sophie-rennert-mezzosopran-ammiel-bushakevitz-klavier-holzhausenschloesschen-889321/
LOCATION:Holzhausenschlösschen\, Justinianstraße 5\, 60322 Frankfurt (Main)
END:VEVENT
END:VCALENDAR