BEGIN:VCALENDAR
VERSION:2.0
PRODID:concerti//https://www.concerti.de
CALSCALE:GREGORIAN
BEGIN:VTIMEZONE
TZID:Europe/Berlin
X-LIC-LOCATION:Europe/Berlin
BEGIN:DAYLIGHT
TZOFFSETFROM:+0100
TZOFFSETTO:+0200
TZNAME:CEST
DTSTART:19700329T020000
RRULE:FREQ=YEARLY;BYMONTH=3;BYDAY=-1SU
END:DAYLIGHT
BEGIN:STANDARD
TZOFFSETFROM:+0200
TZOFFSETTO:+0100
TZNAME:CET
DTSTART:19701025T030000
RRULE:FREQ=YEARLY;BYMONTH=10;BYDAY=-1SU
END:STANDARD
END:VTIMEZONE
BEGIN:VEVENT
UID:49c56b5cfd8a675af17fca79f69c8a70
SUMMARY:Liya Wang (Klavier) - Rheingau Musik Festival
URL:https://www.concerti.de/termine/liya-wang-klavier-schloss-johannisberg-889287/
DTSTART;TZID=Europe/Berlin:20260728T190000
DTEND;TZID=Europe/Berlin:20260728T210000
DESCRIPTION:Interpreten: Liya Wang (Klavier) \nProgramm: Schubert: Impromptus Ges-Dur D 889 & Es-Dur op. 90/2\, Schubert/Liszt: Der Müller und der Bach D 795 & Die Forelle D 550\, Beethoven: Klaviersonate Nr. 30 E-Dur op. 109\, Schumann: Fantasie C-Dur op. 17 & Arabeske C-Dur op. 18 \nhttps://www.concerti.de/termine/liya-wang-klavier-schloss-johannisberg-889287/
LOCATION:Schloss Johannisberg\, \, 65366 Geisenheim-Johannisberg
END:VEVENT
END:VCALENDAR