BEGIN:VCALENDAR
VERSION:2.0
PRODID:concerti//https://www.concerti.de
CALSCALE:GREGORIAN
BEGIN:VTIMEZONE
TZID:Europe/Berlin
X-LIC-LOCATION:Europe/Berlin
BEGIN:DAYLIGHT
TZOFFSETFROM:+0100
TZOFFSETTO:+0200
TZNAME:CEST
DTSTART:19700329T020000
RRULE:FREQ=YEARLY;BYMONTH=3;BYDAY=-1SU
END:DAYLIGHT
BEGIN:STANDARD
TZOFFSETFROM:+0200
TZOFFSETTO:+0100
TZNAME:CET
DTSTART:19701025T030000
RRULE:FREQ=YEARLY;BYMONTH=10;BYDAY=-1SU
END:STANDARD
END:VTIMEZONE
BEGIN:VEVENT
UID:c830e972a94c1d4248f875d9e3af9565
SUMMARY:Rheingauer Tea Time - Rheingau Musik Festival
URL:https://www.concerti.de/termine/rheingauer-tea-time-889146/
DTSTART;TZID=Europe/Berlin:20260726T140000
DTEND;TZID=Europe/Berlin:20260726T160000
DESCRIPTION:Interpreten: Thomas Dunford (Laute)\, Tabea Wink (Blockflöte) \nhttps://www.concerti.de/termine/rheingauer-tea-time-889146/
LOCATION:Wald.Weit Rheingau Hotel & Retreat\, Kiedrich
END:VEVENT
END:VCALENDAR