BEGIN:VCALENDAR
VERSION:2.0
PRODID:concerti//https://www.concerti.de
CALSCALE:GREGORIAN
BEGIN:VTIMEZONE
TZID:Europe/Berlin
X-LIC-LOCATION:Europe/Berlin
BEGIN:DAYLIGHT
TZOFFSETFROM:+0100
TZOFFSETTO:+0200
TZNAME:CEST
DTSTART:19700329T020000
RRULE:FREQ=YEARLY;BYMONTH=3;BYDAY=-1SU
END:DAYLIGHT
BEGIN:STANDARD
TZOFFSETFROM:+0200
TZOFFSETTO:+0100
TZNAME:CET
DTSTART:19701025T030000
RRULE:FREQ=YEARLY;BYMONTH=10;BYDAY=-1SU
END:STANDARD
END:VTIMEZONE
BEGIN:VEVENT
UID:3505122f19d0e44e205bc0952c262d07
SUMMARY:Anastasia Kobekina (Violoncello), Academy of St Martin in the Fields - Rheingau Musik Festival
URL:https://www.concerti.de/termine/anastasia-kobekina-violoncello-academy-of-st-martin-in-the-fields-889277/
DTSTART;TZID=Europe/Berlin:20260724T193000
DTEND;TZID=Europe/Berlin:20260724T213000
DESCRIPTION:Interpreten: Anastasia Kobekina (Violoncello)\, Academy of St Martin in the Fields \nProgramm: Rossini: Sonata per archi Nr. 1 G-Dur\, Strawinsky: Suite Italienne aus „Pulcinella“\, Vivaldi: Konzerte g-Moll RV 531 & g-Moll RV 416\, Tschaikowsky: Souvenir de Florence op. 70 \nhttps://www.concerti.de/termine/anastasia-kobekina-violoncello-academy-of-st-martin-in-the-fields-889277/
LOCATION:Kloster Eberbach\, Eltville
END:VEVENT
END:VCALENDAR