BEGIN:VCALENDAR
VERSION:2.0
PRODID:concerti//https://www.concerti.de
CALSCALE:GREGORIAN
BEGIN:VTIMEZONE
TZID:Europe/Berlin
X-LIC-LOCATION:Europe/Berlin
BEGIN:DAYLIGHT
TZOFFSETFROM:+0100
TZOFFSETTO:+0200
TZNAME:CEST
DTSTART:19700329T020000
RRULE:FREQ=YEARLY;BYMONTH=3;BYDAY=-1SU
END:DAYLIGHT
BEGIN:STANDARD
TZOFFSETFROM:+0200
TZOFFSETTO:+0100
TZNAME:CET
DTSTART:19701025T030000
RRULE:FREQ=YEARLY;BYMONTH=10;BYDAY=-1SU
END:STANDARD
END:VTIMEZONE
BEGIN:VEVENT
UID:5ce4ad667ce2dc96dc0c0176767c307a
SUMMARY:Academy of St Martin in the Fields, Joshua Bell (Violine &amp; Leitung) - Rheingau Musik Festival
URL:https://www.concerti.de/termine/academy-of-st-martin-in-the-fields-joshua-bell-violine-leitung-kurhaus-wiesbaden-889251/
DTSTART;TZID=Europe/Berlin:20260717T193000
DTEND;TZID=Europe/Berlin:20260717T213000
DESCRIPTION:Interpreten: Academy of St Martin in the Fields\, Joshua Bell (Violine & Leitung) \nProgramm: Mendelssohn: Ouvertüre zu „Die Hebriden“ & Violinkonzert e-Moll op. 64\, Beethoven: Sinfonie Nr. 5 c-Moll op. 67 \nhttps://www.concerti.de/termine/academy-of-st-martin-in-the-fields-joshua-bell-violine-leitung-kurhaus-wiesbaden-889251/
LOCATION:Kurhaus Wiesbaden\, Kurhausplatz 1\, 65189 Wiesbaden
END:VEVENT
END:VCALENDAR