BEGIN:VCALENDAR
VERSION:2.0
PRODID:concerti//https://www.concerti.de
CALSCALE:GREGORIAN
BEGIN:VTIMEZONE
TZID:Europe/Berlin
X-LIC-LOCATION:Europe/Berlin
BEGIN:DAYLIGHT
TZOFFSETFROM:+0100
TZOFFSETTO:+0200
TZNAME:CEST
DTSTART:19700329T020000
RRULE:FREQ=YEARLY;BYMONTH=3;BYDAY=-1SU
END:DAYLIGHT
BEGIN:STANDARD
TZOFFSETFROM:+0200
TZOFFSETTO:+0100
TZNAME:CET
DTSTART:19701025T030000
RRULE:FREQ=YEARLY;BYMONTH=10;BYDAY=-1SU
END:STANDARD
END:VTIMEZONE
BEGIN:VEVENT
UID:c85c5677409863f22f3415798ffbfada
SUMMARY:Tenebrae Choir, Academy of St Martin in the Fields, Nigel Short (Leitung) - Rheingau Musik Festival
URL:https://www.concerti.de/termine/tenebrae-choir-academy-of-st-martin-in-the-fields-nigel-short-leitung-889245/
DTSTART;TZID=Europe/Berlin:20260716T193000
DTEND;TZID=Europe/Berlin:20260716T213000
DESCRIPTION:Interpreten: Tenebrae Choir\, Academy of St Martin in the Fields\, Nigel Short (Leitung) \nProgramm: Mozart: Requiem d-Moll KV 626\, Werke von J. S. Bach\, Allegri & Barber \nhttps://www.concerti.de/termine/tenebrae-choir-academy-of-st-martin-in-the-fields-nigel-short-leitung-889245/
LOCATION:Kloster Eberbach\, Eltville
END:VEVENT
END:VCALENDAR