BEGIN:VCALENDAR
VERSION:2.0
PRODID:concerti//https://www.concerti.de
CALSCALE:GREGORIAN
BEGIN:VTIMEZONE
TZID:Europe/Berlin
X-LIC-LOCATION:Europe/Berlin
BEGIN:DAYLIGHT
TZOFFSETFROM:+0100
TZOFFSETTO:+0200
TZNAME:CEST
DTSTART:19700329T020000
RRULE:FREQ=YEARLY;BYMONTH=3;BYDAY=-1SU
END:DAYLIGHT
BEGIN:STANDARD
TZOFFSETFROM:+0200
TZOFFSETTO:+0100
TZNAME:CET
DTSTART:19701025T030000
RRULE:FREQ=YEARLY;BYMONTH=10;BYDAY=-1SU
END:STANDARD
END:VTIMEZONE
BEGIN:VEVENT
UID:463591ed7bb8f2daa14b8271015d343e
SUMMARY:Christoph Reuter (Klavier), Hanke Brothers, Dr. Eckart von Hirschhausen (Moderation) - Rheingau Musik Festival
URL:https://www.concerti.de/termine/christoph-reuter-klavier-hanke-brothers-dr-eckart-von-hirschhausen-moderation-kurhaus-wiesbaden-889218/
DTSTART;TZID=Europe/Berlin:20260709T193000
DTEND;TZID=Europe/Berlin:20260709T213000
DESCRIPTION:Interpreten: Christoph Reuter (Klavier)\, Hanke Brothers\, Dr. Eckart von Hirschhausen (Moderation) \nhttps://www.concerti.de/termine/christoph-reuter-klavier-hanke-brothers-dr-eckart-von-hirschhausen-moderation-kurhaus-wiesbaden-889218/
LOCATION:Kurhaus Wiesbaden\, Kurhausplatz 1\, 65189 Wiesbaden
END:VEVENT
END:VCALENDAR