BEGIN:VCALENDAR
VERSION:2.0
PRODID:concerti//https://www.concerti.de
CALSCALE:GREGORIAN
BEGIN:VTIMEZONE
TZID:Europe/Berlin
X-LIC-LOCATION:Europe/Berlin
BEGIN:DAYLIGHT
TZOFFSETFROM:+0100
TZOFFSETTO:+0200
TZNAME:CEST
DTSTART:19700329T020000
RRULE:FREQ=YEARLY;BYMONTH=3;BYDAY=-1SU
END:DAYLIGHT
BEGIN:STANDARD
TZOFFSETFROM:+0200
TZOFFSETTO:+0100
TZNAME:CET
DTSTART:19701025T030000
RRULE:FREQ=YEARLY;BYMONTH=10;BYDAY=-1SU
END:STANDARD
END:VTIMEZONE
BEGIN:VEVENT
UID:de8793442a3fb393e4a49b50d79eddd2
SUMMARY:Ian Bostridge (Tenor), Oberon Trio - Rheingau Musik Festival
URL:https://www.concerti.de/termine/ian-bostridge-tenor-oberon-trio-schloss-johannisberg-889209/
DTSTART;TZID=Europe/Berlin:20260709T190000
DTEND;TZID=Europe/Berlin:20260709T210000
DESCRIPTION:Interpreten: Ian Bostridge (Tenor)\, Oberon Trio \nProgramm: Haydn: Klaviertrio d-Moll\, Bridge: Fantasie c-Moll\, Beethoven: Sieben Britische Lieder (Auswahl) u. a. \nhttps://www.concerti.de/termine/ian-bostridge-tenor-oberon-trio-schloss-johannisberg-889209/
LOCATION:Schloss Johannisberg\, \, 65366 Geisenheim-Johannisberg
END:VEVENT
END:VCALENDAR