BEGIN:VCALENDAR
VERSION:2.0
PRODID:concerti//https://www.concerti.de
CALSCALE:GREGORIAN
BEGIN:VTIMEZONE
TZID:Europe/Berlin
X-LIC-LOCATION:Europe/Berlin
BEGIN:DAYLIGHT
TZOFFSETFROM:+0100
TZOFFSETTO:+0200
TZNAME:CEST
DTSTART:19700329T020000
RRULE:FREQ=YEARLY;BYMONTH=3;BYDAY=-1SU
END:DAYLIGHT
BEGIN:STANDARD
TZOFFSETFROM:+0200
TZOFFSETTO:+0100
TZNAME:CET
DTSTART:19701025T030000
RRULE:FREQ=YEARLY;BYMONTH=10;BYDAY=-1SU
END:STANDARD
END:VTIMEZONE
BEGIN:VEVENT
UID:106e4cb389694ded4486b78cef4e6b87
SUMMARY:Nils Landgren (vocals &amp; trombone), Neue Philharmonie Frankfurt, Jens Troester (Leitung) - Rheingau Musik Festival
URL:https://www.concerti.de/termine/nils-landgren-vocals-trombone-neue-philharmonie-frankfurt-jens-troester-leitung-889206/
DTSTART;TZID=Europe/Berlin:20260708T193000
DTEND;TZID=Europe/Berlin:20260708T213000
DESCRIPTION:Interpreten: Nils Landgren (vocals & trombone)\, Neue Philharmonie Frankfurt\, Jens Troester (Leitung) \nProgramm: Werke von Sebesky\, Legrand\, Alfven\, Adolphson & Kosma \nhttps://www.concerti.de/termine/nils-landgren-vocals-trombone-neue-philharmonie-frankfurt-jens-troester-leitung-889206/
LOCATION:Kloster Eberbach\, Eltville
END:VEVENT
END:VCALENDAR