BEGIN:VCALENDAR
VERSION:2.0
PRODID:concerti//https://www.concerti.de
CALSCALE:GREGORIAN
BEGIN:VTIMEZONE
TZID:Europe/Berlin
X-LIC-LOCATION:Europe/Berlin
BEGIN:DAYLIGHT
TZOFFSETFROM:+0100
TZOFFSETTO:+0200
TZNAME:CEST
DTSTART:19700329T020000
RRULE:FREQ=YEARLY;BYMONTH=3;BYDAY=-1SU
END:DAYLIGHT
BEGIN:STANDARD
TZOFFSETFROM:+0200
TZOFFSETTO:+0100
TZNAME:CET
DTSTART:19701025T030000
RRULE:FREQ=YEARLY;BYMONTH=10;BYDAY=-1SU
END:STANDARD
END:VTIMEZONE
BEGIN:VEVENT
UID:6214febc67d0c62f445b122bcdaa2218
SUMMARY:Giorgi Gigashvili (Klavier) - Rheingau Musik Festival
URL:https://www.concerti.de/termine/giorgi-gigashvili-klavier-schloss-johannisberg-889203/
DTSTART;TZID=Europe/Berlin:20260708T190000
DTEND;TZID=Europe/Berlin:20260708T210000
DESCRIPTION:Interpreten: Giorgi Gigashvili (Klavier) \nProgramm: Werke von Mendelssohn\, Hensel\, Schostakowitsch\, R. & C. Schumann \nhttps://www.concerti.de/termine/giorgi-gigashvili-klavier-schloss-johannisberg-889203/
LOCATION:Schloss Johannisberg\, \, 65366 Geisenheim-Johannisberg
END:VEVENT
END:VCALENDAR