BEGIN:VCALENDAR
VERSION:2.0
PRODID:concerti//https://www.concerti.de
CALSCALE:GREGORIAN
BEGIN:VTIMEZONE
TZID:Europe/Berlin
X-LIC-LOCATION:Europe/Berlin
BEGIN:DAYLIGHT
TZOFFSETFROM:+0100
TZOFFSETTO:+0200
TZNAME:CEST
DTSTART:19700329T020000
RRULE:FREQ=YEARLY;BYMONTH=3;BYDAY=-1SU
END:DAYLIGHT
BEGIN:STANDARD
TZOFFSETFROM:+0200
TZOFFSETTO:+0100
TZNAME:CET
DTSTART:19701025T030000
RRULE:FREQ=YEARLY;BYMONTH=10;BYDAY=-1SU
END:STANDARD
END:VTIMEZONE
BEGIN:VEVENT
UID:12cb012f2fa89984a5bcd5ca9e02d4cf
SUMMARY:Wayne Marshall (Orgel) - Rheingau Musik Festival
URL:https://www.concerti.de/termine/wayne-marshall-orgel-889189/
DTSTART;TZID=Europe/Berlin:20260705T170000
DTEND;TZID=Europe/Berlin:20260705T190000
DESCRIPTION:Interpreten: Wayne Marshall (Orgel) \nProgramm: Werke von Huberta\, Widor\, Willan\, Bairstow & Marshall \nhttps://www.concerti.de/termine/wayne-marshall-orgel-889189/
LOCATION:Pfarrkirche\, Lorch (Rhein)
END:VEVENT
END:VCALENDAR