BEGIN:VCALENDAR
VERSION:2.0
PRODID:concerti//https://www.concerti.de
CALSCALE:GREGORIAN
BEGIN:VTIMEZONE
TZID:Europe/Berlin
X-LIC-LOCATION:Europe/Berlin
BEGIN:DAYLIGHT
TZOFFSETFROM:+0100
TZOFFSETTO:+0200
TZNAME:CEST
DTSTART:19700329T020000
RRULE:FREQ=YEARLY;BYMONTH=3;BYDAY=-1SU
END:DAYLIGHT
BEGIN:STANDARD
TZOFFSETFROM:+0200
TZOFFSETTO:+0100
TZNAME:CET
DTSTART:19701025T030000
RRULE:FREQ=YEARLY;BYMONTH=10;BYDAY=-1SU
END:STANDARD
END:VTIMEZONE
BEGIN:VEVENT
UID:c88534d8c1d7622cb38e24e22a90eac1
SUMMARY:Martynas Levickis (Akkordeon), Goldmund Quartett - Rheingau Musik Festival
URL:https://www.concerti.de/termine/martynas-levickis-akkordeon-goldmund-quartett-schloss-johannisberg-889161/
DTSTART;TZID=Europe/Berlin:20260703T190000
DTEND;TZID=Europe/Berlin:20260703T210000
DESCRIPTION:Interpreten: Martynas Levickis (Akkordeon)\, Goldmund Quartett \nProgramm: Werke von Mozart\, Haydn\, Piazzolla\, Angelis & Hermosa \nhttps://www.concerti.de/termine/martynas-levickis-akkordeon-goldmund-quartett-schloss-johannisberg-889161/
LOCATION:Schloss Johannisberg\, \, 65366 Geisenheim-Johannisberg
END:VEVENT
END:VCALENDAR