BEGIN:VCALENDAR
VERSION:2.0
PRODID:concerti//https://www.concerti.de
CALSCALE:GREGORIAN
BEGIN:VTIMEZONE
TZID:Europe/Berlin
X-LIC-LOCATION:Europe/Berlin
BEGIN:DAYLIGHT
TZOFFSETFROM:+0100
TZOFFSETTO:+0200
TZNAME:CEST
DTSTART:19700329T020000
RRULE:FREQ=YEARLY;BYMONTH=3;BYDAY=-1SU
END:DAYLIGHT
BEGIN:STANDARD
TZOFFSETFROM:+0200
TZOFFSETTO:+0100
TZNAME:CET
DTSTART:19701025T030000
RRULE:FREQ=YEARLY;BYMONTH=10;BYDAY=-1SU
END:STANDARD
END:VTIMEZONE
BEGIN:VEVENT
UID:43462527e420dd08c4da7ca749e46d83
SUMMARY:Agora - Ella & Louis Jazz Club
URL:https://www.concerti.de/termine/agora-holzhausenschloesschen-889103/
DTSTART;TZID=Europe/Berlin:20260611T193000
DTEND;TZID=Europe/Berlin:20260611T213000
DESCRIPTION:Interpreten: Marcia Bittencourt (vocals\, percussion)\, Michael Arlt (guitar)\, Dudu Penz (bass)\, Matthias Haffner (pandeiro & percussion) \nhttps://www.concerti.de/termine/agora-holzhausenschloesschen-889103/
LOCATION:Holzhausenschlösschen\, Justinianstraße 5\, 60322 Frankfurt (Main)
END:VEVENT
END:VCALENDAR