BEGIN:VCALENDAR
VERSION:2.0
PRODID:concerti//https://www.concerti.de
CALSCALE:GREGORIAN
BEGIN:VTIMEZONE
TZID:Europe/Berlin
X-LIC-LOCATION:Europe/Berlin
BEGIN:DAYLIGHT
TZOFFSETFROM:+0100
TZOFFSETTO:+0200
TZNAME:CEST
DTSTART:19700329T020000
RRULE:FREQ=YEARLY;BYMONTH=3;BYDAY=-1SU
END:DAYLIGHT
BEGIN:STANDARD
TZOFFSETFROM:+0200
TZOFFSETTO:+0100
TZNAME:CET
DTSTART:19701025T030000
RRULE:FREQ=YEARLY;BYMONTH=10;BYDAY=-1SU
END:STANDARD
END:VTIMEZONE
BEGIN:VEVENT
UID:b8a607f8d7ed3b23c6834422327e3a2c
SUMMARY:Verdi: Messa da Requiem
URL:https://www.concerti.de/termine/verdi-messa-da-requiem-alte-oper-frankfurt-889094/
DTSTART;TZID=Europe/Berlin:20260607T190000
DTEND;TZID=Europe/Berlin:20260607T210000
DESCRIPTION:Interpreten: Betsy Horne (Sopran)\, Bettina Ranch (Mezzosopran)\, J. Warren Mitchel (Tenor)\, Stephan Bootz (Bass)\, Chor des Collegium Musicum der Goethe-Universität Frankfurt\, Frankfurter Singakademie\, Konzertchor Köln\, Chor der Universität Vilnius „Pro Musica“\, Litauen\, Sinfonieorchester des Collegium Musicum der Goethe-Universität Frankfurt\, Jan Schumacher (Leitung) \nhttps://www.concerti.de/termine/verdi-messa-da-requiem-alte-oper-frankfurt-889094/
LOCATION:Alte Oper Frankfurt\, Opernplatz 1\, 60313 Frankfurt (Main)
END:VEVENT
END:VCALENDAR