BEGIN:VCALENDAR
VERSION:2.0
PRODID:concerti//https://www.concerti.de
CALSCALE:GREGORIAN
BEGIN:VTIMEZONE
TZID:Europe/Berlin
X-LIC-LOCATION:Europe/Berlin
BEGIN:DAYLIGHT
TZOFFSETFROM:+0100
TZOFFSETTO:+0200
TZNAME:CEST
DTSTART:19700329T020000
RRULE:FREQ=YEARLY;BYMONTH=3;BYDAY=-1SU
END:DAYLIGHT
BEGIN:STANDARD
TZOFFSETFROM:+0200
TZOFFSETTO:+0100
TZNAME:CET
DTSTART:19701025T030000
RRULE:FREQ=YEARLY;BYMONTH=10;BYDAY=-1SU
END:STANDARD
END:VTIMEZONE
BEGIN:VEVENT
UID:77c9a7ddd61221adc8754d0374453ab8
SUMMARY:Franziska Hölscher (Violine), Harriet Krijgh (Violoncello), Claire Huangci (Klavier)
URL:https://www.concerti.de/termine/franziska-hoelscher-violine-harriet-krijgh-violoncello-claire-huangci-klavier-holzhausenschloesschen-889083/
DTSTART;TZID=Europe/Berlin:20260603T193000
DTEND;TZID=Europe/Berlin:20260603T213000
DESCRIPTION:Interpreten: Franziska Hölscher (Violine)\, Harriet Krijgh (Violoncello)\, Claire Huangci (Klavier) \nProgramm: Boulanger: D’un matin de printemps\, Beach: Klaviertrio op. 150\, Sylvestrow: Fugitive Visions of Mozart\, Mendelssohn: Klaviertrio c-Moll op. 66 \nhttps://www.concerti.de/termine/franziska-hoelscher-violine-harriet-krijgh-violoncello-claire-huangci-klavier-holzhausenschloesschen-889083/
LOCATION:Holzhausenschlösschen\, Justinianstraße 5\, 60322 Frankfurt (Main)
END:VEVENT
END:VCALENDAR