BEGIN:VCALENDAR
VERSION:2.0
PRODID:concerti//https://www.concerti.de
CALSCALE:GREGORIAN
BEGIN:VTIMEZONE
TZID:Europe/Berlin
X-LIC-LOCATION:Europe/Berlin
BEGIN:DAYLIGHT
TZOFFSETFROM:+0100
TZOFFSETTO:+0200
TZNAME:CEST
DTSTART:19700329T020000
RRULE:FREQ=YEARLY;BYMONTH=3;BYDAY=-1SU
END:DAYLIGHT
BEGIN:STANDARD
TZOFFSETFROM:+0200
TZOFFSETTO:+0100
TZNAME:CET
DTSTART:19701025T030000
RRULE:FREQ=YEARLY;BYMONTH=10;BYDAY=-1SU
END:STANDARD
END:VTIMEZONE
BEGIN:VEVENT
UID:db3bdc53de53423b32111f8a1c98694c
SUMMARY:Ye Wu (Harfe), Ye Wu (Violine), Linda Guo (Violine), Marko Milenković (Viola), Ulrich Witteler (Violoncello) - Kammerkonzert
URL:https://www.concerti.de/termine/ye-wu-harfe-ye-wu-violine-linda-guo-violine-marko-milenkovic-viola-ulrich-witteler-violoncello-funkhaus-wallrafplatz-888908/
DTSTART;TZID=Europe/Berlin:20270321T110000
DTEND;TZID=Europe/Berlin:20270321T130000
DESCRIPTION:Interpreten: Ye Wu (Harfe)\, Ye Wu (Violine)\, Linda Guo (Violine)\, Marko Milenković (Viola)\, Ulrich Witteler (Violoncello) \nProgramm: Beethoven: Streichquartett Nr. 16 F-Dur op. 135\, Mozart: Klavierkonzert Nr. 9 Es-Dur KV 271\, Grieg: Streichquartett g-Moll op. 27 \nhttps://www.concerti.de/termine/ye-wu-harfe-ye-wu-violine-linda-guo-violine-marko-milenkovic-viola-ulrich-witteler-violoncello-funkhaus-wallrafplatz-888908/
LOCATION:Funkhaus Wallrafplatz Köln\, Wallrafplatz 5\, 50667 Köln
END:VEVENT
END:VCALENDAR