BEGIN:VCALENDAR
VERSION:2.0
PRODID:concerti//https://www.concerti.de
CALSCALE:GREGORIAN
BEGIN:VTIMEZONE
TZID:Europe/Berlin
X-LIC-LOCATION:Europe/Berlin
BEGIN:DAYLIGHT
TZOFFSETFROM:+0100
TZOFFSETTO:+0200
TZNAME:CEST
DTSTART:19700329T020000
RRULE:FREQ=YEARLY;BYMONTH=3;BYDAY=-1SU
END:DAYLIGHT
BEGIN:STANDARD
TZOFFSETFROM:+0200
TZOFFSETTO:+0100
TZNAME:CET
DTSTART:19701025T030000
RRULE:FREQ=YEARLY;BYMONTH=10;BYDAY=-1SU
END:STANDARD
END:VTIMEZONE
BEGIN:VEVENT
UID:beaedd90d7ef315ebc65469e848f6d04
SUMMARY:Trio Giostra - Barock Festival St. Pölten
URL:https://www.concerti.de/termine/trio-giostra-886823/
DTSTART;TZID=Europe/Berlin:20260610T193000
DTEND;TZID=Europe/Berlin:20260610T213000
DESCRIPTION:Interpreten: Trio Giostra \nProgramm: Werke von Ciconia\, Quantz\, Telemann\, Merula u. a. \nhttps://www.concerti.de/termine/trio-giostra-886823/
LOCATION:Löwinnenhof\, St. Pölten
END:VEVENT
END:VCALENDAR