BEGIN:VCALENDAR
VERSION:2.0
PRODID:concerti//https://www.concerti.de
CALSCALE:GREGORIAN
BEGIN:VTIMEZONE
TZID:Europe/Berlin
X-LIC-LOCATION:Europe/Berlin
BEGIN:DAYLIGHT
TZOFFSETFROM:+0100
TZOFFSETTO:+0200
TZNAME:CEST
DTSTART:19700329T020000
RRULE:FREQ=YEARLY;BYMONTH=3;BYDAY=-1SU
END:DAYLIGHT
BEGIN:STANDARD
TZOFFSETFROM:+0200
TZOFFSETTO:+0100
TZNAME:CET
DTSTART:19701025T030000
RRULE:FREQ=YEARLY;BYMONTH=10;BYDAY=-1SU
END:STANDARD
END:VTIMEZONE
BEGIN:VEVENT
UID:a9a2aa730274907afa3fdc2020900901
SUMMARY:Kammerkonzert
URL:https://www.concerti.de/termine/kammerkonzert-iv-staatsoper-unter-den-linden-822571/
DTSTART;TZID=Europe/Berlin:20260629T200000
DTEND;TZID=Europe/Berlin:20260629T220000
DESCRIPTION:Interpreten: Petra Schwieger (Violine)\, Serge Verheylewegen (Violine)\, tanislava Stoykova (Viola)\, Joan Bachs (Violoncello)\, Michael Wendeberg (Klavier)\, Musiker der Staatskapelle Berlin\, René Pape (Bass)\, Yuki Manuela Janke (Violine)\, Knut Zimmermann (Violine)\, Felix Schwartz (Viola)\, Sophia Reuter (Viola)\, Claire Sojung Henkel (Violoncello)\, Elias Corinth (Klavier) \nProgramm: Schumann: Streichquartett Nr. 1 a-Moll op. 41/1\, Szymanowski: Mythen op. 30\, Korngold: Klavierquintett E-Dur op. 15 \nhttps://www.concerti.de/termine/kammerkonzert-iv-staatsoper-unter-den-linden-822571/
LOCATION:Staatsoper Unter den Linden\, Unter den Linden 7\, 10117 Berlin
END:VEVENT
END:VCALENDAR