BEGIN:VCALENDAR
VERSION:2.0
PRODID:concerti//https://www.concerti.de
CALSCALE:GREGORIAN
BEGIN:VTIMEZONE
TZID:Europe/Berlin
X-LIC-LOCATION:Europe/Berlin
BEGIN:DAYLIGHT
TZOFFSETFROM:+0100
TZOFFSETTO:+0200
TZNAME:CEST
DTSTART:19700329T020000
RRULE:FREQ=YEARLY;BYMONTH=3;BYDAY=-1SU
END:DAYLIGHT
BEGIN:STANDARD
TZOFFSETFROM:+0200
TZOFFSETTO:+0100
TZNAME:CET
DTSTART:19701025T030000
RRULE:FREQ=YEARLY;BYMONTH=10;BYDAY=-1SU
END:STANDARD
END:VTIMEZONE
BEGIN:VEVENT
UID:203d15ddc9ed92a9cf1b47504263d3fc
SUMMARY:Universitätsorchester Göttingen, Antonius Adamske (Leitung)
URL:https://www.concerti.de/termine/rimski-korsakow-scheherazade-op-35-georg-august-universitaet-goettingen-760315/
DTSTART:20260723
DURATION:P1D
DESCRIPTION:Interpreten: Universitätsorchester Göttingen\, Antonius Adamske (Leitung) \nProgramm: Tschaikowsky: Sinfonie Nr. 5 op. 64\, Wagner: Einzug der Götter in Wallhall aus „Das Rheingold“ & Trauermarsch aus „Götterdämmerung“\, Gubaidulina: Der Zorn Gottes \nhttps://www.concerti.de/termine/rimski-korsakow-scheherazade-op-35-georg-august-universitaet-goettingen-760315/
LOCATION:Georg-August-Universität Göttingen\, Wilhelmsplatz 1\, 37073 Göttingen
END:VEVENT
END:VCALENDAR