BEGIN:VCALENDAR
VERSION:2.0
PRODID:concerti//https://www.concerti.de
CALSCALE:GREGORIAN
BEGIN:VTIMEZONE
TZID:Europe/Berlin
X-LIC-LOCATION:Europe/Berlin
BEGIN:DAYLIGHT
TZOFFSETFROM:+0100
TZOFFSETTO:+0200
TZNAME:CEST
DTSTART:19700329T020000
RRULE:FREQ=YEARLY;BYMONTH=3;BYDAY=-1SU
END:DAYLIGHT
BEGIN:STANDARD
TZOFFSETFROM:+0200
TZOFFSETTO:+0100
TZNAME:CET
DTSTART:19701025T030000
RRULE:FREQ=YEARLY;BYMONTH=10;BYDAY=-1SU
END:STANDARD
END:VTIMEZONE
BEGIN:VEVENT
UID:85a011283008da9a82e8fe6ed71ab5e2
SUMMARY:Johannes Krebs (Violoncello), Olena Miso (Klavier) - Internationales Musikfest Goslar
URL:https://www.concerti.de/termine/johannes-krebs-violoncello-olena-miso-klavier-867019/
DTSTART;TZID=Europe/Berlin:20261205T170000
DTEND;TZID=Europe/Berlin:20261205T190000
DESCRIPTION:Interpreten: Johannes Krebs (Violoncello)\, Olena Miso (Klavier) \nProgramm: Beethoven: Cellosonate Nr. 5 C-Dur op. 102/1\, Paganini: Moses-Fantasie\, Brahms: Cellosonate Nr. 2 F-Dur op. 99 \nhttps://www.concerti.de/termine/johannes-krebs-violoncello-olena-miso-klavier-867019/
LOCATION:Mönchehaus Museum\, Goslar
END:VEVENT
END:VCALENDAR