BEGIN:VCALENDAR
VERSION:2.0
PRODID:concerti//https://www.concerti.de
CALSCALE:GREGORIAN
BEGIN:VTIMEZONE
TZID:Europe/Berlin
X-LIC-LOCATION:Europe/Berlin
BEGIN:DAYLIGHT
TZOFFSETFROM:+0100
TZOFFSETTO:+0200
TZNAME:CEST
DTSTART:19700329T020000
RRULE:FREQ=YEARLY;BYMONTH=3;BYDAY=-1SU
END:DAYLIGHT
BEGIN:STANDARD
TZOFFSETFROM:+0200
TZOFFSETTO:+0100
TZNAME:CET
DTSTART:19701025T030000
RRULE:FREQ=YEARLY;BYMONTH=10;BYDAY=-1SU
END:STANDARD
END:VTIMEZONE
BEGIN:VEVENT
UID:db8d60361b289da1ed5494b63b80ee65
SUMMARY:Von Arien &amp; Intrigen - Internationales Musikfest Goslar
URL:https://www.concerti.de/termine/von-arien-intrigen-867013/
DTSTART;TZID=Europe/Berlin:20261024T170000
DTEND;TZID=Europe/Berlin:20261024T190000
DESCRIPTION:Interpreten: The Twiolins \nhttps://www.concerti.de/termine/von-arien-intrigen-867013/
LOCATION:Mönchehaus Museum\, Goslar
END:VEVENT
END:VCALENDAR