BEGIN:VCALENDAR
VERSION:2.0
PRODID:concerti//https://www.concerti.de
CALSCALE:GREGORIAN
BEGIN:VTIMEZONE
TZID:Europe/Berlin
X-LIC-LOCATION:Europe/Berlin
BEGIN:DAYLIGHT
TZOFFSETFROM:+0100
TZOFFSETTO:+0200
TZNAME:CEST
DTSTART:19700329T020000
RRULE:FREQ=YEARLY;BYMONTH=3;BYDAY=-1SU
END:DAYLIGHT
BEGIN:STANDARD
TZOFFSETFROM:+0200
TZOFFSETTO:+0100
TZNAME:CET
DTSTART:19701025T030000
RRULE:FREQ=YEARLY;BYMONTH=10;BYDAY=-1SU
END:STANDARD
END:VTIMEZONE
BEGIN:VEVENT
UID:d43e3a316638cb2bd399c82db95a8010
SUMMARY:Detlef Mielke (Violoncello), Gregor Unterkofler (Klavier) - Internationales Musikfest Goslar
URL:https://www.concerti.de/termine/detlef-mielke-violoncello-gregor-unterkofler-klavier-866960/
DTSTART;TZID=Europe/Berlin:20260704T170000
DTEND;TZID=Europe/Berlin:20260704T190000
DESCRIPTION:Interpreten: Detlef Mielke (Violoncello)\, Gregor Unterkofler (Klavier) \nProgramm: Schubert/Mielke: Cellosonate g-Moll D 408 & Cellosonate a-Moll D 821 „Arpeggione“\, F. X. Mozart: Cellosonate E-Dur op. 19 \nhttps://www.concerti.de/termine/detlef-mielke-violoncello-gregor-unterkofler-klavier-866960/
LOCATION:Mönchehaus Museum\, Goslar
END:VEVENT
END:VCALENDAR