BEGIN:VCALENDAR
VERSION:2.0
PRODID:concerti//https://www.concerti.de
CALSCALE:GREGORIAN
BEGIN:VTIMEZONE
TZID:Europe/Berlin
X-LIC-LOCATION:Europe/Berlin
BEGIN:DAYLIGHT
TZOFFSETFROM:+0100
TZOFFSETTO:+0200
TZNAME:CEST
DTSTART:19700329T020000
RRULE:FREQ=YEARLY;BYMONTH=3;BYDAY=-1SU
END:DAYLIGHT
BEGIN:STANDARD
TZOFFSETFROM:+0200
TZOFFSETTO:+0100
TZNAME:CET
DTSTART:19701025T030000
RRULE:FREQ=YEARLY;BYMONTH=10;BYDAY=-1SU
END:STANDARD
END:VTIMEZONE
BEGIN:VEVENT
UID:ebf4b258147e748e85663aa6a641c8e8
SUMMARY:Aaron Huros (Violine), María Bernal (Viola), Karl Huros (Violoncello), Catalina Huros (Klavier) - Internationales Musikfest Goslar
URL:https://www.concerti.de/termine/aaron-huros-violine-maria-bernal-viola-karl-huros-violoncello-catalina-huros-klavier-866880/
DTSTART;TZID=Europe/Berlin:20260606T170000
DTEND;TZID=Europe/Berlin:20260606T190000
DESCRIPTION:Interpreten: Aaron Huros (Violine)\, María Bernal (Viola)\, Karl Huros (Violoncello)\, Catalina Huros (Klavier) \nProgramm: Schumann: Klavierquartett Es -Dur op. 47\, Brahms: Klavierquartett g-Moll op. 25 \nhttps://www.concerti.de/termine/aaron-huros-violine-maria-bernal-viola-karl-huros-violoncello-catalina-huros-klavier-866880/
LOCATION:Mönchehaus Museum\, Goslar
END:VEVENT
END:VCALENDAR