BEGIN:VCALENDAR
VERSION:2.0
PRODID:concerti//https://www.concerti.de
CALSCALE:GREGORIAN
BEGIN:VTIMEZONE
TZID:Europe/Berlin
X-LIC-LOCATION:Europe/Berlin
BEGIN:DAYLIGHT
TZOFFSETFROM:+0100
TZOFFSETTO:+0200
TZNAME:CEST
DTSTART:19700329T020000
RRULE:FREQ=YEARLY;BYMONTH=3;BYDAY=-1SU
END:DAYLIGHT
BEGIN:STANDARD
TZOFFSETFROM:+0200
TZOFFSETTO:+0100
TZNAME:CET
DTSTART:19701025T030000
RRULE:FREQ=YEARLY;BYMONTH=10;BYDAY=-1SU
END:STANDARD
END:VTIMEZONE
BEGIN:VEVENT
UID:1cb2e962739b9d519ed8e2cb8d723e30
SUMMARY:Ensemble BachWerkVokal Salzburg, Gordon Safari (Leitung)
URL:https://www.concerti.de/termine/ensemble-bachwerkvokal-salzburg-gordon-safari-leitung-stiftung-mozarteum-salzburg-866516/
DTSTART;TZID=Europe/Berlin:20260526T193000
DTEND;TZID=Europe/Berlin:20260526T213000
DESCRIPTION:Interpreten: Ensemble BachWerkVokal Salzburg\, Gordon Safari (Leitung) \nProgramm: Werke von Rathgeber\, Haydn\, Vivaldi\, Mozart & J. S. Bach \nhttps://www.concerti.de/termine/ensemble-bachwerkvokal-salzburg-gordon-safari-leitung-stiftung-mozarteum-salzburg-866516/
LOCATION:Stiftung Mozarteum Salzburg\, Schwarzstraße 26\, 5020 Salzburg
END:VEVENT
END:VCALENDAR