BEGIN:VCALENDAR
VERSION:2.0
PRODID:concerti//https://www.concerti.de
CALSCALE:GREGORIAN
BEGIN:VTIMEZONE
TZID:Europe/Berlin
X-LIC-LOCATION:Europe/Berlin
BEGIN:DAYLIGHT
TZOFFSETFROM:+0100
TZOFFSETTO:+0200
TZNAME:CEST
DTSTART:19700329T020000
RRULE:FREQ=YEARLY;BYMONTH=3;BYDAY=-1SU
END:DAYLIGHT
BEGIN:STANDARD
TZOFFSETFROM:+0200
TZOFFSETTO:+0100
TZNAME:CET
DTSTART:19701025T030000
RRULE:FREQ=YEARLY;BYMONTH=10;BYDAY=-1SU
END:STANDARD
END:VTIMEZONE
BEGIN:VEVENT
UID:964808bfc27c1f0f06b80aac1c3bbd5d
SUMMARY:Jeremias Luther (Violoncello), Holzkirchner Symphoniker, Andreas Ruppert (Leitung)
URL:https://www.concerti.de/termine/jeremias-luther-violoncello-holzkirchner-symphoniker-andreas-ruppert-leitung-866419/
DTSTART;TZID=Europe/Berlin:20260517T193000
DTEND;TZID=Europe/Berlin:20260517T213000
DESCRIPTION:Interpreten: Jeremias Luther (Violoncello)\, Holzkirchner Symphoniker\, Andreas Ruppert (Leitung) \nProgramm: Mozart: Ouvertüre zu „Idomeneo“ KV 366 & Sinfonie Nr. 41 C-Dur KV 551 „Jupiter“\, Dvořák: Cellokonzert h-Moll op. 104 \nhttps://www.concerti.de/termine/jeremias-luther-violoncello-holzkirchner-symphoniker-andreas-ruppert-leitung-866419/
LOCATION:Kurhaus\, Bad Tölz
END:VEVENT
END:VCALENDAR