BEGIN:VCALENDAR
VERSION:2.0
PRODID:concerti//https://www.concerti.de
CALSCALE:GREGORIAN
BEGIN:VTIMEZONE
TZID:Europe/Berlin
X-LIC-LOCATION:Europe/Berlin
BEGIN:DAYLIGHT
TZOFFSETFROM:+0100
TZOFFSETTO:+0200
TZNAME:CEST
DTSTART:19700329T020000
RRULE:FREQ=YEARLY;BYMONTH=3;BYDAY=-1SU
END:DAYLIGHT
BEGIN:STANDARD
TZOFFSETFROM:+0200
TZOFFSETTO:+0100
TZNAME:CET
DTSTART:19701025T030000
RRULE:FREQ=YEARLY;BYMONTH=10;BYDAY=-1SU
END:STANDARD
END:VTIMEZONE
BEGIN:VEVENT
UID:9e9ebb582174784b1d91e965656e2e43
SUMMARY:The Erlkings
URL:https://www.concerti.de/termine/the-erlkings-august-everding-saal-866375/
DTSTART;TZID=Europe/Berlin:20260611T193000
DTEND;TZID=Europe/Berlin:20260611T213000
DESCRIPTION:Interpreten: The Erlkings \nhttps://www.concerti.de/termine/the-erlkings-august-everding-saal-866375/
LOCATION:August Everding Saal\, Ebertstr. 1\, 82031 Grünwald
END:VEVENT
END:VCALENDAR