BEGIN:VCALENDAR
VERSION:2.0
PRODID:concerti//https://www.concerti.de
CALSCALE:GREGORIAN
BEGIN:VTIMEZONE
TZID:Europe/Berlin
X-LIC-LOCATION:Europe/Berlin
BEGIN:DAYLIGHT
TZOFFSETFROM:+0100
TZOFFSETTO:+0200
TZNAME:CEST
DTSTART:19700329T020000
RRULE:FREQ=YEARLY;BYMONTH=3;BYDAY=-1SU
END:DAYLIGHT
BEGIN:STANDARD
TZOFFSETFROM:+0200
TZOFFSETTO:+0100
TZNAME:CET
DTSTART:19701025T030000
RRULE:FREQ=YEARLY;BYMONTH=10;BYDAY=-1SU
END:STANDARD
END:VTIMEZONE
BEGIN:VEVENT
UID:3f5e6f95c9504893d790f74b6032e955
SUMMARY:Cimarosa: L’impresario in angustie - Sommerfestival Liebhabertheater Schloss Kochberg
URL:https://www.concerti.de/termine/cimarosa-limpresario-in-angustie-liebhabertheater-schloss-kochberg-865641/
DTSTART;TZID=Europe/Berlin:20260711T170000
DTEND;TZID=Europe/Berlin:20260711T190000
DESCRIPTION:Interpreten: Max Jakob Rößeler (Lorenzo)\, Cornelius Uhle (Orlando)\, Christian Pohlers (Polidoro)\, Alessia Schumacher (Fiordispina)\, Lautten Compagney Berlin\, Wolfgang Katschner (Leitung)\, Daniel Trumbull (Regie) \nhttps://www.concerti.de/termine/cimarosa-limpresario-in-angustie-liebhabertheater-schloss-kochberg-865641/
LOCATION:Liebhabertheater Schloss Kochberg\, Schloss Kochberg\, 07407 Großkochberg
END:VEVENT
END:VCALENDAR