BEGIN:VCALENDAR
VERSION:2.0
PRODID:concerti//https://www.concerti.de
CALSCALE:GREGORIAN
BEGIN:VTIMEZONE
TZID:Europe/Berlin
X-LIC-LOCATION:Europe/Berlin
BEGIN:DAYLIGHT
TZOFFSETFROM:+0100
TZOFFSETTO:+0200
TZNAME:CEST
DTSTART:19700329T020000
RRULE:FREQ=YEARLY;BYMONTH=3;BYDAY=-1SU
END:DAYLIGHT
BEGIN:STANDARD
TZOFFSETFROM:+0200
TZOFFSETTO:+0100
TZNAME:CET
DTSTART:19701025T030000
RRULE:FREQ=YEARLY;BYMONTH=10;BYDAY=-1SU
END:STANDARD
END:VTIMEZONE
BEGIN:VEVENT
UID:c7a59d7c5295fe11dc67393147b8ec01
SUMMARY:Studierende und Lehrende der Hochschule für Musik „Hanns Eisler“ Berlin - Voiceday
URL:https://www.concerti.de/termine/studierende-und-lehrende-der-hochschule-fuer-musik-hanns-eisler-berlin-hochschule-fuer-musik-hanns-eisler-berlin-865594/
DTSTART;TZID=Europe/Berlin:20260516T190000
DTEND;TZID=Europe/Berlin:20260516T210000
DESCRIPTION:Interpreten: Studierende und Lehrende der Hochschule für Musik „Hanns Eisler“ Berlin \nProgramm: Werke von Spohr\, Barber\, Ravel\, Schubert\, Williams\, R. Strauss\, Ho\, Adam & Gerhar \nhttps://www.concerti.de/termine/studierende-und-lehrende-der-hochschule-fuer-musik-hanns-eisler-berlin-hochschule-fuer-musik-hanns-eisler-berlin-865594/
LOCATION:Hochschule für Musik „Hanns Eisler“ Berlin\, Schlossplatz 7\, 10178 Berlin
END:VEVENT
END:VCALENDAR