BEGIN:VCALENDAR
VERSION:2.0
PRODID:concerti//https://www.concerti.de
CALSCALE:GREGORIAN
BEGIN:VTIMEZONE
TZID:Europe/Berlin
X-LIC-LOCATION:Europe/Berlin
BEGIN:DAYLIGHT
TZOFFSETFROM:+0100
TZOFFSETTO:+0200
TZNAME:CEST
DTSTART:19700329T020000
RRULE:FREQ=YEARLY;BYMONTH=3;BYDAY=-1SU
END:DAYLIGHT
BEGIN:STANDARD
TZOFFSETFROM:+0200
TZOFFSETTO:+0100
TZNAME:CET
DTSTART:19701025T030000
RRULE:FREQ=YEARLY;BYMONTH=10;BYDAY=-1SU
END:STANDARD
END:VTIMEZONE
BEGIN:VEVENT
UID:dfa08b02e7db01f90c1f2648f4abd8aa
SUMMARY:Stimmen des Widerstands - Voiceday
URL:https://www.concerti.de/termine/stimmen-des-widerstands-hochschule-fuer-musik-hanns-eisler-berlin-865585/
DTSTART;TZID=Europe/Berlin:20260516T123000
DTEND;TZID=Europe/Berlin:20260516T143000
DESCRIPTION:Interpreten: Margarita Zhigalkina (Sopran)\, Annabel Soode (Sopran)\, Pearl Vaynman (Mezzosopran)\, Dzmitry Smalonski (Tenor)\, Trio Clara\, Anna Samuil (Leitung) \nProgramm: Schostakowitsch: Sieben Romanzen op. 127\, Satiren op. 109 & Aus jüdischer Volkspoesie op. 79\, Weinberg: Aus der Poesie Petöfis op. 70 \nhttps://www.concerti.de/termine/stimmen-des-widerstands-hochschule-fuer-musik-hanns-eisler-berlin-865585/
LOCATION:Hochschule für Musik „Hanns Eisler“ Berlin\, Schlossplatz 7\, 10178 Berlin
END:VEVENT
END:VCALENDAR