BEGIN:VCALENDAR
VERSION:2.0
PRODID:concerti//https://www.concerti.de
CALSCALE:GREGORIAN
BEGIN:VTIMEZONE
TZID:Europe/Berlin
X-LIC-LOCATION:Europe/Berlin
BEGIN:DAYLIGHT
TZOFFSETFROM:+0100
TZOFFSETTO:+0200
TZNAME:CEST
DTSTART:19700329T020000
RRULE:FREQ=YEARLY;BYMONTH=3;BYDAY=-1SU
END:DAYLIGHT
BEGIN:STANDARD
TZOFFSETFROM:+0200
TZOFFSETTO:+0100
TZNAME:CET
DTSTART:19701025T030000
RRULE:FREQ=YEARLY;BYMONTH=10;BYDAY=-1SU
END:STANDARD
END:VTIMEZONE
BEGIN:VEVENT
UID:9ad1faf9b4686f4befd6cbc6631cf002
SUMMARY:Esperanza Spalding (vocals), Eric Doob (vocals &amp; drums), Matthew Stevens (vocals &amp; guitar), Anton Mangold Quintett - Jazzfest Bonn: Doppelkonzert
URL:https://www.concerti.de/termine/esperanza-spalding-vocals-eric-doob-vocals-drums-matthew-stevens-vocals-guitar-anton-mangold-quintett-opernhaus-bonn-865563/
DTSTART;TZID=Europe/Berlin:20260627T190000
DTEND;TZID=Europe/Berlin:20260627T210000
DESCRIPTION:Interpreten: Esperanza Spalding (vocals)\, Eric Doob (vocals & drums)\, Matthew Stevens (vocals & guitar)\, Anton Mangold Quintett \nhttps://www.concerti.de/termine/esperanza-spalding-vocals-eric-doob-vocals-drums-matthew-stevens-vocals-guitar-anton-mangold-quintett-opernhaus-bonn-865563/
LOCATION:Opernhaus Bonn\, Am Boeselagerhof 1\, 53111 Bonn
END:VEVENT
END:VCALENDAR