BEGIN:VCALENDAR
VERSION:2.0
PRODID:concerti//https://www.concerti.de
CALSCALE:GREGORIAN
BEGIN:VTIMEZONE
TZID:Europe/Berlin
X-LIC-LOCATION:Europe/Berlin
BEGIN:DAYLIGHT
TZOFFSETFROM:+0100
TZOFFSETTO:+0200
TZNAME:CEST
DTSTART:19700329T020000
RRULE:FREQ=YEARLY;BYMONTH=3;BYDAY=-1SU
END:DAYLIGHT
BEGIN:STANDARD
TZOFFSETFROM:+0200
TZOFFSETTO:+0100
TZNAME:CET
DTSTART:19701025T030000
RRULE:FREQ=YEARLY;BYMONTH=10;BYDAY=-1SU
END:STANDARD
END:VTIMEZONE
BEGIN:VEVENT
UID:022f5c550030a0f889b7562948937c98
SUMMARY:Schumann: Das Paradies und die Peri op. 50
URL:https://www.concerti.de/termine/schumann-das-paradies-und-die-peri-op-50-residenz-muenchen-865329/
DTSTART;TZID=Europe/Berlin:20260509T190000
DTEND;TZID=Europe/Berlin:20260509T210000
DESCRIPTION:Interpreten: Ann-Fleur Werner (Sopran)\, Franziska Zwink (Sopran)\, Franziska Bader (Mezzosopran)\, Julia Rutigliano (Alt)\, Manuel Günther (Tenor)\, Alexander Moritz (Tenor)\, Daniel Holzhauser (Bariton)\, Tobias Pfülb (Bass)\, Münchner Oratorienchor\, Freies Landesorchester Bayern\, Stellario Fagone (Leitung) \nhttps://www.concerti.de/termine/schumann-das-paradies-und-die-peri-op-50-residenz-muenchen-865329/
LOCATION:Residenz München\, Residenzstraße 1\, 80333 München
END:VEVENT
END:VCALENDAR