BEGIN:VCALENDAR
VERSION:2.0
PRODID:concerti//https://www.concerti.de
CALSCALE:GREGORIAN
BEGIN:VTIMEZONE
TZID:Europe/Berlin
X-LIC-LOCATION:Europe/Berlin
BEGIN:DAYLIGHT
TZOFFSETFROM:+0100
TZOFFSETTO:+0200
TZNAME:CEST
DTSTART:19700329T020000
RRULE:FREQ=YEARLY;BYMONTH=3;BYDAY=-1SU
END:DAYLIGHT
BEGIN:STANDARD
TZOFFSETFROM:+0200
TZOFFSETTO:+0100
TZNAME:CET
DTSTART:19701025T030000
RRULE:FREQ=YEARLY;BYMONTH=10;BYDAY=-1SU
END:STANDARD
END:VTIMEZONE
BEGIN:VEVENT
UID:b8ed618844a264fcfad6735663ca106c
SUMMARY:James Malikey (Klavier)
URL:https://www.concerti.de/termine/james-malikey-klavier-wiener-musikverein-865266/
DTSTART;TZID=Europe/Berlin:20260426T200000
DTEND;TZID=Europe/Berlin:20260426T220000
DESCRIPTION:Interpreten: James Malikey (Klavier) \nProgramm: Werke von Malikey u. a. \nhttps://www.concerti.de/termine/james-malikey-klavier-wiener-musikverein-865266/
LOCATION:Wiener Musikverein\, Musikvereinspl. 1\, 1010 Wien
END:VEVENT
END:VCALENDAR