BEGIN:VCALENDAR
VERSION:2.0
PRODID:concerti//https://www.concerti.de
CALSCALE:GREGORIAN
BEGIN:VTIMEZONE
TZID:Europe/Berlin
X-LIC-LOCATION:Europe/Berlin
BEGIN:DAYLIGHT
TZOFFSETFROM:+0100
TZOFFSETTO:+0200
TZNAME:CEST
DTSTART:19700329T020000
RRULE:FREQ=YEARLY;BYMONTH=3;BYDAY=-1SU
END:DAYLIGHT
BEGIN:STANDARD
TZOFFSETFROM:+0200
TZOFFSETTO:+0100
TZNAME:CET
DTSTART:19701025T030000
RRULE:FREQ=YEARLY;BYMONTH=10;BYDAY=-1SU
END:STANDARD
END:VTIMEZONE
BEGIN:VEVENT
UID:9a5f095a3764c01953bf1b1b9dcdaf27
SUMMARY:Palestrina: Missa brevis
URL:https://www.concerti.de/termine/palestrina-missa-brevis-st-elisabeth-kirche-865227/
DTSTART;TZID=Europe/Berlin:20260426T103000
DTEND;TZID=Europe/Berlin:20260426T123000
DESCRIPTION:Interpreten: RIAS Kammerchor Berlin \nhttps://www.concerti.de/termine/palestrina-missa-brevis-st-elisabeth-kirche-865227/
LOCATION:St. Elisabeth-Kirche Berlin\, Invalidenstraße 3\, 10115 Berlin
END:VEVENT
END:VCALENDAR