BEGIN:VCALENDAR
VERSION:2.0
PRODID:concerti//https://www.concerti.de
CALSCALE:GREGORIAN
BEGIN:VTIMEZONE
TZID:Europe/Berlin
X-LIC-LOCATION:Europe/Berlin
BEGIN:DAYLIGHT
TZOFFSETFROM:+0100
TZOFFSETTO:+0200
TZNAME:CEST
DTSTART:19700329T020000
RRULE:FREQ=YEARLY;BYMONTH=3;BYDAY=-1SU
END:DAYLIGHT
BEGIN:STANDARD
TZOFFSETFROM:+0200
TZOFFSETTO:+0100
TZNAME:CET
DTSTART:19701025T030000
RRULE:FREQ=YEARLY;BYMONTH=10;BYDAY=-1SU
END:STANDARD
END:VTIMEZONE
BEGIN:VEVENT
UID:1c0e2b5dd7d0e0af22245b1ff533d90e
SUMMARY:Akademisches Sinfonieorchester München, Carolin Nordmeyer (Leitung)
URL:https://www.concerti.de/termine/akademisches-sinfonieorchester-muenchen-carolin-nordmeyer-leitung-residenz-muenchen-817662/
DTSTART;TZID=Europe/Berlin:20260426T113000
DTEND;TZID=Europe/Berlin:20260426T133000
DESCRIPTION:Interpreten: Akademisches Sinfonieorchester München\, Carolin Nordmeyer (Leitung) \nProgramm: Bruckner: Sinfonie Nr. 7 E-Dur\, Schubert: Sinfonie Nr. 3 D-Dur D 200 \nhttps://www.concerti.de/termine/akademisches-sinfonieorchester-muenchen-carolin-nordmeyer-leitung-residenz-muenchen-817662/
LOCATION:Residenz München\, Residenzstraße 1\, 80333 München
END:VEVENT
END:VCALENDAR