BEGIN:VCALENDAR
VERSION:2.0
PRODID:concerti//https://www.concerti.de
CALSCALE:GREGORIAN
BEGIN:VTIMEZONE
TZID:Europe/Berlin
X-LIC-LOCATION:Europe/Berlin
BEGIN:DAYLIGHT
TZOFFSETFROM:+0100
TZOFFSETTO:+0200
TZNAME:CEST
DTSTART:19700329T020000
RRULE:FREQ=YEARLY;BYMONTH=3;BYDAY=-1SU
END:DAYLIGHT
BEGIN:STANDARD
TZOFFSETFROM:+0200
TZOFFSETTO:+0100
TZNAME:CET
DTSTART:19701025T030000
RRULE:FREQ=YEARLY;BYMONTH=10;BYDAY=-1SU
END:STANDARD
END:VTIMEZONE
BEGIN:VEVENT
UID:897deb7c6318ff294f3ee30353945e8c
SUMMARY:Roman Borisov (Klavier)
URL:https://www.concerti.de/termine/roman-borisov-klavier-kammermusiksaal-berlin-865030/
DTSTART;TZID=Europe/Berlin:20260521T200000
DTEND;TZID=Europe/Berlin:20260521T220000
DESCRIPTION:Interpreten: Roman Borisov (Klavier) \nProgramm: Crawford Seeger: Préludes (Auswahl)\, Schumann: Humoreske B-Dur op. 20\, Mendelssohn: Lieder ohne Worte op. 67\, Rachmaninow: Klaviersonate Nr. 2 b-Moll op. 36 \nhttps://www.concerti.de/termine/roman-borisov-klavier-kammermusiksaal-berlin-865030/
LOCATION:Kammermusiksaal Berlin\, Herbert-von-Karajan-Straße 1\, 10785 Berlin
END:VEVENT
END:VCALENDAR