BEGIN:VCALENDAR
VERSION:2.0
PRODID:concerti//https://www.concerti.de
CALSCALE:GREGORIAN
BEGIN:VTIMEZONE
TZID:Europe/Berlin
X-LIC-LOCATION:Europe/Berlin
BEGIN:DAYLIGHT
TZOFFSETFROM:+0100
TZOFFSETTO:+0200
TZNAME:CEST
DTSTART:19700329T020000
RRULE:FREQ=YEARLY;BYMONTH=3;BYDAY=-1SU
END:DAYLIGHT
BEGIN:STANDARD
TZOFFSETFROM:+0200
TZOFFSETTO:+0100
TZNAME:CET
DTSTART:19701025T030000
RRULE:FREQ=YEARLY;BYMONTH=10;BYDAY=-1SU
END:STANDARD
END:VTIMEZONE
BEGIN:VEVENT
UID:59cbbb18574515f6e30cba6479e6ef30
SUMMARY:Paganini: 24 Capricci für Violine solo op. 1
URL:https://www.concerti.de/termine/paganini-24-capricci-fuer-violine-solo-op-1-kammermusiksaal-berlin-865021/
DTSTART;TZID=Europe/Berlin:20260516T200000
DTEND;TZID=Europe/Berlin:20260516T220000
DESCRIPTION:Interpreten: Nikolay Madoyan (Violine) \nhttps://www.concerti.de/termine/paganini-24-capricci-fuer-violine-solo-op-1-kammermusiksaal-berlin-865021/
LOCATION:Kammermusiksaal Berlin\, Herbert-von-Karajan-Straße 1\, 10785 Berlin
END:VEVENT
END:VCALENDAR