BEGIN:VCALENDAR
VERSION:2.0
PRODID:concerti//https://www.concerti.de
CALSCALE:GREGORIAN
BEGIN:VTIMEZONE
TZID:Europe/Berlin
X-LIC-LOCATION:Europe/Berlin
BEGIN:DAYLIGHT
TZOFFSETFROM:+0100
TZOFFSETTO:+0200
TZNAME:CEST
DTSTART:19700329T020000
RRULE:FREQ=YEARLY;BYMONTH=3;BYDAY=-1SU
END:DAYLIGHT
BEGIN:STANDARD
TZOFFSETFROM:+0200
TZOFFSETTO:+0100
TZNAME:CET
DTSTART:19701025T030000
RRULE:FREQ=YEARLY;BYMONTH=10;BYDAY=-1SU
END:STANDARD
END:VTIMEZONE
BEGIN:VEVENT
UID:5499d5a17c4669da0dc4c801f489e474
SUMMARY:Ergebenst Ihr Joseph Haydn
URL:https://www.concerti.de/termine/ergebenst-ihr-joseph-haydn-864983/
DTSTART;TZID=Europe/Berlin:20261114T180000
DTEND;TZID=Europe/Berlin:20261114T200000
DESCRIPTION:Interpreten: Max Müller (Gesang & Rezitation)\, Volker Nemmer (Klavier) \nProgramm: Werke & Lesungen aus Briefen von Haydn \nhttps://www.concerti.de/termine/ergebenst-ihr-joseph-haydn-864983/
LOCATION:Kulturfabrik\, Hainburg an der Donau
END:VEVENT
END:VCALENDAR