BEGIN:VCALENDAR
VERSION:2.0
PRODID:concerti//https://www.concerti.de
CALSCALE:GREGORIAN
BEGIN:VTIMEZONE
TZID:Europe/Berlin
X-LIC-LOCATION:Europe/Berlin
BEGIN:DAYLIGHT
TZOFFSETFROM:+0100
TZOFFSETTO:+0200
TZNAME:CEST
DTSTART:19700329T020000
RRULE:FREQ=YEARLY;BYMONTH=3;BYDAY=-1SU
END:DAYLIGHT
BEGIN:STANDARD
TZOFFSETFROM:+0200
TZOFFSETTO:+0100
TZNAME:CET
DTSTART:19701025T030000
RRULE:FREQ=YEARLY;BYMONTH=10;BYDAY=-1SU
END:STANDARD
END:VTIMEZONE
BEGIN:VEVENT
UID:8b43e2e8387b05bbe548d329ac649415
SUMMARY:Tamara Stefanovich (Klavier), NDR Elbphilharmonie Orchester, Pierre Bleuse (Leitung) - Internationales Musikfest Hamburg
URL:https://www.concerti.de/termine/tamara-stefanovich-klavier-ndr-elbphilharmonie-orchester-pierre-bleuse-leitung-elbphilharmonie-795945/
DTSTART;TZID=Europe/Berlin:20260516T200000
DTEND;TZID=Europe/Berlin:20260516T220000
DESCRIPTION:Interpreten: Tamara Stefanovich (Klavier)\, NDR Elbphilharmonie Orchester\, Pierre Bleuse (Leitung) \nProgramm: Henze: Tristan\, Ives: Central Park in the Dark\, Debussy: Images \nhttps://www.concerti.de/termine/tamara-stefanovich-klavier-ndr-elbphilharmonie-orchester-pierre-bleuse-leitung-elbphilharmonie-795945/
LOCATION:Elbphilharmonie\, Platz der Deutschen Einheit 1\, 20457 Hamburg
END:VEVENT
END:VCALENDAR