BEGIN:VCALENDAR
VERSION:2.0
PRODID:concerti//https://www.concerti.de
CALSCALE:GREGORIAN
BEGIN:VTIMEZONE
TZID:Europe/Berlin
X-LIC-LOCATION:Europe/Berlin
BEGIN:DAYLIGHT
TZOFFSETFROM:+0100
TZOFFSETTO:+0200
TZNAME:CEST
DTSTART:19700329T020000
RRULE:FREQ=YEARLY;BYMONTH=3;BYDAY=-1SU
END:DAYLIGHT
BEGIN:STANDARD
TZOFFSETFROM:+0200
TZOFFSETTO:+0100
TZNAME:CET
DTSTART:19701025T030000
RRULE:FREQ=YEARLY;BYMONTH=10;BYDAY=-1SU
END:STANDARD
END:VTIMEZONE
BEGIN:VEVENT
UID:24a4a02e0ee38a70db37d1adc8ba73a0
SUMMARY:Malakoff Kowalski (vocals), Chilly Gonzales (piano), Johanna Summer (piano) - Mozartfest Augsburg
URL:https://www.concerti.de/termine/malakoff-kowalski-vocals-chilly-gonzales-piano-johanna-summer-piano-843699/
DTSTART;TZID=Europe/Berlin:20260505T200000
DTEND;TZID=Europe/Berlin:20260505T220000
DESCRIPTION:Interpreten: Malakoff Kowalski (vocals)\, Chilly Gonzales (piano)\, Johanna Summer (piano) \nhttps://www.concerti.de/termine/malakoff-kowalski-vocals-chilly-gonzales-piano-johanna-summer-piano-843699/
LOCATION:Kesselhaus\, Augsburg
END:VEVENT
END:VCALENDAR