BEGIN:VCALENDAR
VERSION:2.0
PRODID:concerti//https://www.concerti.de
CALSCALE:GREGORIAN
BEGIN:VTIMEZONE
TZID:Europe/Berlin
X-LIC-LOCATION:Europe/Berlin
BEGIN:DAYLIGHT
TZOFFSETFROM:+0100
TZOFFSETTO:+0200
TZNAME:CEST
DTSTART:19700329T020000
RRULE:FREQ=YEARLY;BYMONTH=3;BYDAY=-1SU
END:DAYLIGHT
BEGIN:STANDARD
TZOFFSETFROM:+0200
TZOFFSETTO:+0100
TZNAME:CET
DTSTART:19701025T030000
RRULE:FREQ=YEARLY;BYMONTH=10;BYDAY=-1SU
END:STANDARD
END:VTIMEZONE
BEGIN:VEVENT
UID:d9bb0366ff77bbd94c50072dfe271f72
SUMMARY:Greg Niemczuk (Klavier)
URL:https://www.concerti.de/termine/greg-niemczuk-klavier-840085/
DTSTART;TZID=Europe/Berlin:20260909T190000
DTEND;TZID=Europe/Berlin:20260909T210000
DESCRIPTION:Interpreten: Greg Niemczuk (Klavier) \nProgramm: Werke von Mozart\, Beethoven & Chopin \nhttps://www.concerti.de/termine/greg-niemczuk-klavier-840085/
LOCATION:Yehudi Menuhin Forum\, Bern
END:VEVENT
END:VCALENDAR