BEGIN:VCALENDAR
VERSION:2.0
PRODID:concerti//https://www.concerti.de
CALSCALE:GREGORIAN
BEGIN:VTIMEZONE
TZID:Europe/Berlin
X-LIC-LOCATION:Europe/Berlin
BEGIN:DAYLIGHT
TZOFFSETFROM:+0100
TZOFFSETTO:+0200
TZNAME:CEST
DTSTART:19700329T020000
RRULE:FREQ=YEARLY;BYMONTH=3;BYDAY=-1SU
END:DAYLIGHT
BEGIN:STANDARD
TZOFFSETFROM:+0200
TZOFFSETTO:+0100
TZNAME:CET
DTSTART:19701025T030000
RRULE:FREQ=YEARLY;BYMONTH=10;BYDAY=-1SU
END:STANDARD
END:VTIMEZONE
BEGIN:VEVENT
UID:fb268b3b8eb3b141343a86ee48449cf9
SUMMARY:Veronika Eberle (Violine), Timothy Ridout (Viola), Sol Gabetta (Violoncello), Alexandre Kantorow (Klavier) - Solsberg Festival
URL:https://www.concerti.de/termine/veronika-eberle-violine-timothy-ridout-viola-sol-gabetta-violoncello-alexandre-kantorow-klavier-839968/
DTSTART;TZID=Europe/Berlin:20260701T193000
DTEND;TZID=Europe/Berlin:20260701T213000
DESCRIPTION:Interpreten: Veronika Eberle (Violine)\, Timothy Ridout (Viola)\, Sol Gabetta (Violoncello)\, Alexandre Kantorow (Klavier)\, Veronika Eberle (Violine)\, Timothy Ridout (Viola)\, Sol Gabetta (Violoncello) \nProgramm: Hindemith: Violasonate op. 25/1\, Telemnann: Zwölf Fantasien für Viola (Auszüge)\, Beethoven: Streichtrio G-Dur op. 9/1 u. a. \nhttps://www.concerti.de/termine/veronika-eberle-violine-timothy-ridout-viola-sol-gabetta-violoncello-alexandre-kantorow-klavier-839968/
LOCATION:Klosterkirche Olsberg\, Olsberg
END:VEVENT
END:VCALENDAR