BEGIN:VCALENDAR
VERSION:2.0
PRODID:concerti//https://www.concerti.de
CALSCALE:GREGORIAN
BEGIN:VTIMEZONE
TZID:Europe/Berlin
X-LIC-LOCATION:Europe/Berlin
BEGIN:DAYLIGHT
TZOFFSETFROM:+0100
TZOFFSETTO:+0200
TZNAME:CEST
DTSTART:19700329T020000
RRULE:FREQ=YEARLY;BYMONTH=3;BYDAY=-1SU
END:DAYLIGHT
BEGIN:STANDARD
TZOFFSETFROM:+0200
TZOFFSETTO:+0100
TZNAME:CET
DTSTART:19701025T030000
RRULE:FREQ=YEARLY;BYMONTH=10;BYDAY=-1SU
END:STANDARD
END:VTIMEZONE
BEGIN:VEVENT
UID:08def43e484a21dce0fe0171fcc1cb20
SUMMARY:Eva-Maria Schmid (Sopran), Jimmy CB Chiang (Klavier) - Halbturner Schlosskonzerte
URL:https://www.concerti.de/termine/eva-maria-schmid-sopran-jimmy-cb-chiang-klavier-839178/
DTSTART;TZID=Europe/Berlin:20260910T193000
DTEND;TZID=Europe/Berlin:20260910T213000
DESCRIPTION:Interpreten: Eva-Maria Schmid (Sopran)\, Jimmy CB Chiang (Klavier) \nProgramm: Werke von Schumann\, C. Schumann\, Brahms\, Mahler & R. Strauss \nhttps://www.concerti.de/termine/eva-maria-schmid-sopran-jimmy-cb-chiang-klavier-839178/
LOCATION:Schloss Halbturn\, Halbturn
END:VEVENT
END:VCALENDAR