BEGIN:VCALENDAR
VERSION:2.0
PRODID:concerti//https://www.concerti.de
CALSCALE:GREGORIAN
BEGIN:VTIMEZONE
TZID:Europe/Berlin
X-LIC-LOCATION:Europe/Berlin
BEGIN:DAYLIGHT
TZOFFSETFROM:+0100
TZOFFSETTO:+0200
TZNAME:CEST
DTSTART:19700329T020000
RRULE:FREQ=YEARLY;BYMONTH=3;BYDAY=-1SU
END:DAYLIGHT
BEGIN:STANDARD
TZOFFSETFROM:+0200
TZOFFSETTO:+0100
TZNAME:CET
DTSTART:19701025T030000
RRULE:FREQ=YEARLY;BYMONTH=10;BYDAY=-1SU
END:STANDARD
END:VTIMEZONE
BEGIN:VEVENT
UID:691d9d0c33114493b6253401142f32ac
SUMMARY:Orquesta Típica Berlin - Gartenreichsommer: Kaffeekonzert
URL:https://www.concerti.de/termine/orquesta-tipica-berlin-838712/
DTSTART;TZID=Europe/Berlin:20260525T150000
DTEND;TZID=Europe/Berlin:20260525T170000
DESCRIPTION:Interpreten: Orquesta Típica Berlin \nhttps://www.concerti.de/termine/orquesta-tipica-berlin-838712/
LOCATION:Schloss\, Oranienbaum
END:VEVENT
END:VCALENDAR