BEGIN:VCALENDAR
VERSION:2.0
PRODID:concerti//https://www.concerti.de
CALSCALE:GREGORIAN
BEGIN:VTIMEZONE
TZID:Europe/Berlin
X-LIC-LOCATION:Europe/Berlin
BEGIN:DAYLIGHT
TZOFFSETFROM:+0100
TZOFFSETTO:+0200
TZNAME:CEST
DTSTART:19700329T020000
RRULE:FREQ=YEARLY;BYMONTH=3;BYDAY=-1SU
END:DAYLIGHT
BEGIN:STANDARD
TZOFFSETFROM:+0200
TZOFFSETTO:+0100
TZNAME:CET
DTSTART:19701025T030000
RRULE:FREQ=YEARLY;BYMONTH=10;BYDAY=-1SU
END:STANDARD
END:VTIMEZONE
BEGIN:VEVENT
UID:a8cf759fdcbf332b026523223c05a94c
SUMMARY:Bläserphilharmonie Mozarteum Salzburg, Christian Thielemann (Leitung) - Innsbrucker Promenadenkonzerte
URL:https://www.concerti.de/termine/blaeserphilharmonie-mozarteum-salzburg-christian-thielemann-leitung-838001/
DTSTART;TZID=Europe/Berlin:20260709T193000
DTEND;TZID=Europe/Berlin:20260709T213000
DESCRIPTION:Interpreten: Bläserphilharmonie Mozarteum Salzburg\, Christian Thielemann (Leitung) \nhttps://www.concerti.de/termine/blaeserphilharmonie-mozarteum-salzburg-christian-thielemann-leitung-838001/
LOCATION:Hofburg\, Innsbruck
END:VEVENT
END:VCALENDAR